BEGIN:VCALENDAR
VERSION:2.0
PRODID:-//Security Blog for SAP® - ECPv6.15.11//NONSGML v1.0//EN
CALSCALE:GREGORIAN
METHOD:PUBLISH
X-WR-CALNAME:Security Blog for SAP®
X-ORIGINAL-URL:https://kirchebner.net
X-WR-CALDESC:Veranstaltungen für Security Blog for SAP®
REFRESH-INTERVAL;VALUE=DURATION:PT1H
X-Robots-Tag:noindex
X-PUBLISHED-TTL:PT1H
BEGIN:VTIMEZONE
TZID:Europe/Vienna
BEGIN:DAYLIGHT
TZOFFSETFROM:+0100
TZOFFSETTO:+0200
TZNAME:CEST
DTSTART:20250330T010000
END:DAYLIGHT
BEGIN:STANDARD
TZOFFSETFROM:+0200
TZOFFSETTO:+0100
TZNAME:CET
DTSTART:20251026T010000
END:STANDARD
BEGIN:DAYLIGHT
TZOFFSETFROM:+0100
TZOFFSETTO:+0200
TZNAME:CEST
DTSTART:20260329T010000
END:DAYLIGHT
BEGIN:STANDARD
TZOFFSETFROM:+0200
TZOFFSETTO:+0100
TZNAME:CET
DTSTART:20261025T010000
END:STANDARD
BEGIN:DAYLIGHT
TZOFFSETFROM:+0100
TZOFFSETTO:+0200
TZNAME:CEST
DTSTART:20270328T010000
END:DAYLIGHT
BEGIN:STANDARD
TZOFFSETFROM:+0200
TZOFFSETTO:+0100
TZNAME:CET
DTSTART:20271031T010000
END:STANDARD
END:VTIMEZONE
BEGIN:VEVENT
DTSTART;TZID=Europe/Vienna:20261006T000000
DTEND;TZID=Europe/Vienna:20261008T235959
DTSTAMP:20260421T111430
CREATED:20250820T101101Z
LAST-MODIFIED:20250820T101104Z
UID:677-1791244800-1791503999@kirchebner.net
SUMMARY:DSAG Jahreskongress 2026
DESCRIPTION:The DSAG Annual Congress is the most important meeting place for SAP user companies in German-speaking countries. It is the platform for orientation\, exchange of experience and networking. Since 2000\, the congress of the German-speaking SAP User Group (DSAG)\, which takes place annually alternately in Bremen\, Leipzig and Cologne\, has enjoyed steadily growing popularity. In the meantime\, over 5\,500 participants attend the three-day event – and the trend is rising.
URL:https://kirchebner.net/event/dsag-jahreskongress-2026/
LOCATION:Köln\, Köln\, Germany
ATTACH;FMTTYPE=image/png:https://kirchebner.net/wp-content/uploads/2025/08/DSAG-Jahreskongress-2026.png
ORGANIZER;CN="DSAG - Deutschsprachige SAP Anwendergruppe e.V.":MAILTO:info@dsag.de
END:VEVENT
END:VCALENDAR